Workbook
Name _: #REF!
Name _: #REF!
Name _: #REF!
Name ________tt1: "tt1"
Name _______tt1: "tt1"
Name ______a1: [0]!______a1
Name ______a10: [0]!______a10
Name ______a4: [0]!______a4
Name ______L1: #REF!
Name ______tt1: "tt1"
Name _____a1: [0]!_____a1
Name _____a10: [0]!_____a10
Name _____a11: [0]!_____a11
Name _____a12: [0]!_____a12
Name _____a13: [0]!_____a13
Name _____a14: [0]!_____a14
Name _____a15: [0]!_____a15
Name _____a16: [0]!_____a16
Name _____a2: [0]!_____a2
Name _____a3: [0]!_____a3
Name _____a4: [0]!_____a4
Name _____a5: [0]!_____a5
Name _____a6: [0]!_____a6
Name _____a7: [0]!_____a7
Name _____a8: [0]!_____a8
Name _____a9: [0]!_____a9
Name _____B2: #REF!
Name _____JHY1: [0]!_____JHY1
Name _____JHY2: [0]!_____JHY2
Name _____L1: #REF!
Name _____LKS1: [0]!_____LKS1
Name _____LKS2: [0]!_____LKS2
Name _____SH2: #REF!
Name ____a1: [0]!____a1
Name ____a10: [0]!____a10
Name ____a11: [0]!____a11
Name ____a12: [0]!____a12
Name ____a13: [0]!____a13
Name ____a14: [0]!____a14
Name ____a15: [0]!____a15
Name ____a16: [0]!____a16
Name ____a17: [0]!____a17
Name ____a2: [0]!____a2
Name ____a3: [0]!____a3
Name ____a4: [0]!____a4
Name ____a5: [0]!____a5
Name ____a6: [0]!____a6
Name ____a7: [0]!____a7
Name ____a8: [0]!____a8
Name ____a9: [0]!____a9
Name ____AA1: #REF!
Name ____B2: #REF!
Name ____hor1: #REF!
Name ____HPP1: #REF!
Name ____JH10: #REF!
Name ____JH11: #REF!
Name ____JH12: #REF!
Name ____JH13: #REF!
Name ____JH14: #REF!
Name ____JH15: #REF!

Sheet 표지
C3: 2026년 안양천서로 가로숲길 조성공사
B6: 설 계 내 역 서
B12: 2026. 3.

Sheet 공사설명서
A1: 공 사 설 명 서
B3: 1. 공사명 : | C3: 2026년 안양천서로 가로숲길 조성공사
B5: 2. 위 치 : | C5: 만안구 안양동 1401번지 일원(비산대교 사거리 ~ 덕천로 교차구간)
B7: 3. 목 적 : | C7: 고사하거나 생육이 불량한 가로수와 띠녹지를 전면 정비하여 혹서기 쾌적한 보행환경을 제공하고자 함
B10: 4. 공사개요
C11: 1) 토공 : 잔토처리(현장내) 31㎥
C12: 2) 제거공 : 왕벚나무 제거(뿌리포함) 54주, 쥐똥나무 제거 2,390주
C13: 3) 이식 및 식재공 : 화살나무 이식 540주, 이팝나무 신규식재 54주
C14: 4) 부대공 : 공사설명판 1EA, 현수막 1개, 폐기물상차28㎥, 토양개량제 포설 및 혼합 100포
B17: 5. 설계변경조건
C18: 1) 조사당시 수집된 자료에 외 지하부분의 변화가 있을 시
C19: 2) 시공중 관의 방침이 변경되었을 시
C20: 3) 추정설계로서 토질 및 수량변화가 있을 시
C21: 4) 당초 지정된 골재원 및 토취장 위치 또는 운반거리 변동 시
C22: 5) 기타 설계 변경함이 가하다고 사료될 시
B25: 6. 공사 연장조건
C26: 1) 관의 계획 변경으로 시공치 못한 때 | G26: 4) 지장물 혹은 보상 및 편입용지의 미해결로 지연될 시
C27: 2) 설계변경으로 공사중단 지시를 할 때 | G27: 5) 공법 등 계획이 변동될 시
C28: 3) 천재지변으로 인하여 시공치 못한 때 | G28: 6) 기타 부득이 시공기간 연장이 타당하다고 인정될 시
B31: 7. 본 공사의 공사기간은 착공일로부터 40일로 하고 예정공정은 다음과 같다.

Sheet 예정공정표
A1: 예 정 공 정 표
A3: =#REF! -> #REF!
A4: 공 종 | B4: 공종율 | C4: 공 사 기 간 (40일) | K4: 비 고
C5: 5 | D5: 10 | E5: 15 | F5: 20 | G5: 25 | H5: 30 | I5: 35 | J5: 40
A6: 1. 토공
A7: 2. 제거공
A8: 3. 이식 및 식재공
A9: 4. 부대공
A10: 계

Sheet 원가계산서
B1: 원가계산서
H3: 10억 미만(6개월 이하),조경전문공사
B4: 비 목 | E4: 구분 | F4: 금 액 | G4: 요율 | H4: 산 출 근 거
C5: 재 | D5: 직 접 재 료 비 | E5: 1
C6: 료 | D6: 간 접 재 료 비 | E6: 2
C7: 비 | D7: 작업설.부산물등(△) | E7: 3
D8: 소 계 | E8: A | H8: (1 + 2 + 3 )
C9: 노 | D9: 직 접 노 무 비 | E9: 4
B10: 순 | C10: 무 | D10: 간 접 노 무 비 | E10: 5 | G10: 16.2% | H10: 4 × 0.162
C11: 비 | D11: 소 계 | E11: B | H11: ( 4 + 5 )
B12: 공 | D12: 산 출 경 비 | E12: 6
D13: 산 재 보 험 료 | E13: 7 | G13: 3.56% | H13: B × 0.0356
B14: 사 | D14: 고 용 보 험 료 | E14: 8 | G14: 1.01% | H14: B × 0.0101
C15: 경 | D15: 건 강 보 험 료 | E15: 9 | G15: 3.595% | H15: 4 × 0.03595
B16: 원 | D16: 연 금 보 험 료 | E16: 10 | G16: 4.75% | H16: 4 × 0.0475
D17: 노인장기요양 보 험 료 | E17: 11 | G17: 13.14% | H17: 9 × 0.1314
B18: 가 | D18: 퇴 직 공 제 부 금 비 | E18: 12 | G18: 0% | H18: 4 × 0.0
D19: 건설기계대여금지급보증서발급액 | E19: 13 | G19: 0.16% | H19: (A + 4 + 6) × 0.0016
D20: 산 업 안 전 보건관리비 | E20: 14 | G20: 2.07% | H20: (A + 4) × 0.0207
D21: 환 경 보 전 비 | E21: 15 | G21: 0.3% | H21: (A + 4 + 6) ×0.003
D22: 공 사 이 행 보증수수료 | E22: 16
C23: 비 | D23: 하도급대금지급보증수수료 | E23: 17 | G23: 0% | H23: (A + 4 + 6) ×0.0
D24: 기 타 경 비 | E24: 18 | G24: 4.6% | H24: (A + B) × 0.046
D25: 석 면 분 담 금 | E25: 19 | G25: 0.006% | H25: B × 0.00006
D26: 임 금 채 권 부 담 금 | E26: 20 | G26: 0.09% | H26: B × 0.0009
D27: 안 전 관 리 | E27: 21
D28: 소 계 | E28: C | H28: (6:21)
D29: 순 공 사 원 가 | E29: D | H29: (A + B + C)
D30: 일 반 관 리 비 | E30: E | G30: 8% | H30: D × 0.08
D31: 이 윤 | E31: F | G31: 14.91% | H31: (B + C + E) ×0.1491
D32: 총 원 가 | E32: G | H32: (D + E + F)
D33: 임 목 폐 기 물 처 리 공 | E33: H
D34: 부 가 가 치 세 | E34: I | G34: 10% | H34: (G + H) × 0.1
D35: 도 급 액 | E35: J | H35: (G + H + I)
D36: 총 공 사 비 | E36: K | H36: J
L53: =RIGHT((F32+F33)*0.1,3) -> 0

Sheet 내역서총괄표
B1: 내역서총괄표
B3: 공종 | C3: 품 명 | D3: 규 격 | E3: 수 량 | F3: 단위 | G3: 합 계 | H3: 재료비 | I3: 노무비 | J3: 경 비 | K3: 비 고
C4: 순 공 사 비 | F4: 식 | G4: =I4+H4+J4 -> 0 | H4: =내역서!J6 -> 0 | I4: =내역서!L6 -> 0 | J4: =내역서!N6 -> 0
C5: ■ 2026년 안양천서로 가로숲길 조성공사 내역서 | F5: 식 | G5: =I5+H5+J5 -> 0 | H5: =내역서!J7 -> 0 | I5: =내역서!L7 -> 0 | J5: =내역서!N7 -> 0
B6: 1. | C6: 토공 | F6: 식 | G6: =I6+H6+J6 -> 0 | H6: =내역서!J8 -> 0 | I6: =내역서!L8 -> 0 | J6: =내역서!N8 -> 0
B7: 2. | C7: 제거공 | F7: 식 | G7: =I7+H7+J7 -> 0 | H7: =내역서!J11 -> 0 | I7: =내역서!L11 -> 0 | J7: =내역서!N11 -> 0
B8: 3. | C8: 이식 및 식재공 | F8: 식 | G8: =I8+H8+J8 -> 0 | H8: =내역서!J20 -> 0 | I8: =내역서!L20 -> 0 | J8: =내역서!N20 -> 0
C9: 1) 이식 | F9: 식 | G9: =I9+H9+J9 -> 0 | H9: =내역서!J21 -> 0 | I9: =내역서!L21 -> 0 | J9: =내역서!N21 -> 0
C10: 2) 신규 | F10: 식 | G10: =I10+H10+J10 -> 0 | H10: =내역서!J24 -> 0 | I10: =내역서!L24 -> 0 | J10: =내역서!N24 -> 0
B11: 4. | C11: 부대공 | F11: 식 | G11: =I11+H11+J11 -> 0 | H11: =내역서!J27 -> 0 | I11: =내역서!L27 -> 0 | J11: =내역서!N27 -> 0
C12: 간접노무비 | E12: 16.2 | F12: % | G12: =원가계산서!F10 -> 0
C13: 산재보험료 | E13: 3.56 | F13: % | G13: =원가계산서!F13 -> 0
C14: 고용보험료 | E14: 1.01 | F14: % | G14: =원가계산서!F14 -> 0
C15: 건강보험료 | E15: 3.595 | F15: % | G15: =원가계산서!F15 -> 0
C16: 연금보험료 | E16: 4.75 | F16: % | G16: =원가계산서!F16 -> 0
C17: 노인장기요양보험료 | E17: 13.14 | F17: % | G17: =원가계산서!F17 -> 0
C18: 퇴직공제부금비 | F18: % | G18: =원가계산서!F18 -> 0
C19: 건설기계대여금지급보증서발급액 | E19: 0.16 | F19: % | G19: =원가계산서!F19 -> 0
C20: 산업안전보건관리비 | E20: 2.07 | F20: % | G20: =원가계산서!F20 -> 0
C21: 환경보전비 | E21: 0.3 | F21: % | G21: =원가계산서!F21 -> 0
C22: 하도급대금지급보증수수료 | F22: % | G22: =원가계산서!F23 -> 0
C23: 기타경비 | E23: 4.6 | F23: % | G23: =원가계산서!F24 -> 0
C24: 석면분담금 | E24: 0.006 | F24: % | G24: =원가계산서!F25 -> 0
C25: 임금채권부담금 | E25: 0.09 | F25: % | G25: =원가계산서!F26 -> 0
C26: 안전관리 | G26: =원가계산서!F27 -> 0
C27: 순공사원가 | G27: =원가계산서!F29 -> 0
C28: 일반관리비 | E28: 8 | F28: % | G28: =원가계산서!F30 -> 0
C29: 이윤 | E29: 14.91 | F29: % | G29: =원가계산서!F31 -> 0
C30: 총원가 | G30: =원가계산서!F32 -> 0
C31: 임목폐기물처리공 | G31: =원가계산서!F33 -> 0
C32: 부가가치세 | E32: 10 | F32: % | G32: =원가계산서!F34 -> 0
C33: 도급액 | G33: =원가계산서!F35 -> 0
C34: 총공사비 | G34: =원가계산서!F36 -> 0

Sheet 내역서
B1: 내역서
B3: 공종 | C3: 품 명 | D3: 규 격 | E3: 수 량 | F3: 단위 | G3: 합 계 | I3: 재료비 | K3: 노무비 | M3: 경 비 | O3: 비 고
G4: 단 가 | H4: 금 액 | I4: 단 가 | J4: 금 액 | K4: 단 가 | L4: 금 액 | M4: 단 가 | N4: 금 액
C5: ■ 2026년 안양천서로 가로숲길 조성공사 | D5: 10억 미만(6개월 이하),조경전문공사
C6: 순 공 사 비 | F6: 식
C7: ■ 2026년 안양천서로 가로숲길 조성공사 내역서 | F7: 식
B8: 1. | C8: 토공 | F8: 식
C9: 잔토처리(현장내) | D9: 인력 | E9: 31 | F9: ㎥
B11: 2. | C11: 제거공 | F11: 식
C12: 왕벚나무(제거) | D12: B15 | E12: 13 | F12: 주
C13: 왕벚나무(제거) | D13: B12 | E13: 29 | F13: 주
C14: 왕벚나무(제거) | D14: B10 | E14: 8 | F14: 주
C15: 왕벚나무뿌리(제거) | D15: B12 | E15: 4 | F15: 주
C16: 쥐똥나무(제거) | D16: H1.2xW0.3 | E16: 340 | F16: 주
C17: 쥐똥나무(제거) | D17: H1.0xW0.3 | E17: 1610 | F17: 주
C18: 쥐똥나무(제거) | D18: H0.8xW0.3 | E18: 440 | F18: 주
B20: 3. | C20: 이식 및 식재공 | F20: 식
C21: 1) 이식 | F21: 식
C22: 화살나무(이식) | D22: H1.0xW0.4 | E22: 160 | F22: 주
C23: 화살나무(이식) | D23: H0.8xW0.4 | E23: 380 | F23: 주
C24: 2) 신규 | F24: 식
C25: 이팝나무 식재 | D25: H4.0xR12 | E25: 54 | F25: 주
B27: 4. | C27: 부대공 | F27: 식
C28: 공사설명판 | D28: 중형(1.2×2.4m) | E28: 1 | F28: EA
C29: 현수막 | D29: 600×120cm | E29: 1 | F29: 개
C30: 폐기물상차 | D30: 백호0.6㎥+부착용집게 | E30: 28 | F30: ㎥
C31: 토양개량제 포설 및 혼합 | D31: 20kg/포, 자재비 포함 | E31: 100 | F31: 포
B34: 5. | C34: 안전관리 | F34: 식
C35: 교통통제및안전처리 | D35: 공구연장500m이상 | E35: 8 | F35: 일
C36: 단위조정 | E36: 1 | F36: 식
B38: 6. | C38: 임목폐기물처리공 | F38: 식
C39: 1) 임목폐기물 운반 | F39: 식
C40: 임목폐기물(운반비) | E40: 20 | F40: TON
C41: 2) 임목폐기물 처리 | F41: 식
C42: 임목폐기물(처리비) | E42: 20 | F42: TON
