Workbook

Sheet 설계설명서
A1: 1. 사업명
B2: - | C2: 범계어린이공원 정비공사
A4: 2. 사업의 목적
B5: - | C5: 노후화된 어린이공원 내 놀이시설 및 각종 편의시설 등의 정비를 통해 성장기 어린이의 모험심과 상상력을 자극하여 감성, 창의성 발달을 도모하고 시민들에게 쾌적한 휴식을 줄 수 있는 공간 제공
A7: 3. 사업의 위치 및 범위
B8: 1) | C8: 위치: 경기도 안양시 동안구 호계동 1053-5
B9: 2) | C9: 사업년도 : 2024년
A11: 4. 공 사 기 간
B12: 본 공사는 착공일로부터 90일로 한다.
A14: 5. 설계변경조건
B15: 1) | C15: 본 공사는 설계당시 수집된 자료에 의하여 설계한 것인바 조사가 불가능한 부분 및 조사후 변경된 사항에 대해서는 시공시 실정에 맞추어 변경
B16: 2) | C16: 골재원 및 토취장의 위치 및 운반거리등이 변경될 경우
B17: 3) | C17: 연평균 강우일보다 많은 강우일로 인하여 공사진행에 현저한 지장을 주거나 관급자재의 공급지연으로 공사에 지장을 주었다고 인정될 경우에는 상당하는
C18: 기일 만큼 연기 할 수 있다
B19: 4) | C19: 공법이 변경될 경우
B20: 5) | C20: 천재지변으로 인하여 설계변경이 불가피한 경우
B21: 6) | C21: 본 공사 시공중 관의 형편상 설계변경이 불가피한 경우

Sheet 예정공정표
A2: 예 정 공 정 표
A4: ■ 공사명 : | B4: 범계어린이공원 정비공사
A5: 공 종 | B5: 공종율 | C5: 공 사 기 간 (90일) | L5: 비 고
C6: 10 | D6: 20 | E6: 30 | F6: 40 | G6: 50 | H6: 60 | I6: 70 | J6: 80 | K6: 90
A7: 공사준비 | B7: 0.1
A8: 철거공 | B8: 0.2
A9: 식재공 | B9: 0.3
A10: 시설물공 | B10: 0.3
A11: 공사정리 | B11: 0.1
A12: 계 | B12: =SUM(B7:B11) -> 1

Sheet 원가계산서
A1: 공 사 비 원 가 계 산 서
A2: 범계어린이공원 정비공사 | J2: (공사기간 : 90일)
A3: 비목 | C3: 구분 | E3: 산출근거 | I3: 금 액 | J3: 비고
B4: 재료비 | C4: A1 | D4: 직접재료비 | I4: =내역서!H5 -> 0
C5: A2 | D5: 간접재료비 | I5: =[1]내역서!H7 -> 0
C6: A | D6: 소계 | I6: =I4+I5 -> 0 | J6: (A1+A2)
B7: 노무비 | C7: B1 | D7: 직접노무비 | I7: =내역서!J5 -> 0
C8: B2 | D8: 간접노무비 | E8: =I7 -> 0 | F8: * | G8: 14.3 | H8: % | I8: =ROUNDDOWN(E8*G8%,0) -> 0 | J8: (B1)*14.3%
C9: B | D9: 소계 | I9: =I7+I8 -> 0 | J9: (B1+B2)
B10: 경비 | C10: C1 | D10: 직접경비 | I10: =내역서!L5 -> 0
C11: C | D11: 소계 | I11: =I10 -> 0 | J11: (C1)
C12: D1 | D12: 산재보험료 | E12: =I9 -> 0 | F12: * | G12: 3.56 | H12: % | I12: =INT(E12*G12%) -> 0 | J12: (B)*3.56%
C13: D2 | D13: 산업안전보건관리비(반영) | E13: =I6+I7 -> 0 | F13: * | G13: =1.85*1.2 -> 2.22 | H13: % | I13: =INT(E13*G13%) -> 0 | J13: (A+B1)*1.85*1.2
D14: 산업안전보건관리비(미반영) | F14: * | G14: 1.85 | H14: % | I14: =INT(E14*G14%) -> 0 | J14: (A+B1+N)*1.85
C15: D3 | D15: 고용보험료 | E15: =I9 -> 0 | F15: * | G15: 1.01 | H15: % | I15: =INT(E15*G15%) -> 0 | J15: (B)*1.01% | L15: =E15*G15/100 -> 0
C16: D4 | D16: 기타경비 | E16: =I6+I9 -> 0 | F16: * | G16: 5.5 | H16: % | I16: =INT(E16*G16%) -> 0 | J16: (A+B)*5.5% | L16: =E16*G16/100 -> 0
C17: D5 | D17: 환경보전비 | E17: =I4+I7+I11 -> 0 | F17: * | G17: 0.3 | H17: % | I17: =INT(E17*G17%) -> 0 | J17: (A1+B1+C)*0.3%
C18: D6 | D18: 건강보험료 | E18: =I7 -> 0 | F18: * | G18: 3.545 | H18: % | I18: =INT(E18*G18%) -> 0 | J18: (B1)*3.545%
C19: D7 | D19: 연금보험료 | E19: =I7 -> 0 | F19: * | G19: 4.5 | H19: % | I19: =INT(E19*G19%) -> 0 | J19: (B1)*4.5%
C20: D8 | D20: 노인장기요양보험료 | E20: =I18 -> 0 | F20: * | G20: 12.95 | H20: % | I20: =INT(E20*G20%) -> 0 | J20: (D7)*12.95%
C21: D9 | D21: 건설기계대여대금지급보증서발급비 | E21: =I4+I7+I11 -> 0 | F21: * | G21: 0.18 | H21: % | I21: =INT(E21*G21%) -> 0 | J21: (A1+B1+C)*0.18%
C22: D10 | D22: 건설하도급대급지급보증서발급수수료 | E22: =I4+I7+I11 -> 0 | F22: * | G22: 0.081 | H22: % | I22: =INT(E22*G22%) -> 0 | J22: (A1+B1+C)*0.081%
C23: D11 | D23: 퇴직공제부금 | E23: =I7 -> 0 | F23: * | G23: 2.3 | H23: % | I23: =INT(E23*G23%) -> 0
C24: D12 | D24: 안전관리비 | E24: =내역서!F20 -> 0 | I24: =E24 -> 0
C25: D | D25: 소 계 | I25: =I12+I13+I15+I16+I17+I18+I19+I20+I21+I22+I23+I24 -> 0 | J25: (D1+D2+~+D10+D12)
A26: E. 합 계 | I26: =INT(I6+I9+I11+I25) -> 0 | J26: (A+B+C+D) | L26: =#REF!+#REF!+#REF! -> #REF!
A27: F. 일반관리비 | E27: =I26 -> 0 | F27: * | G27: 6 | H27: % | I27: =INT(E27*G27/100) -> 0 | J27: (E)*6.0% | L27: =#REF!*4.7% -> #REF!
A28: G. 이 윤 | E28: =I9+I11+I25+I27 -> 0 | F28: * | G28: 13 | H28: % | I28: =INT(E28*13/100) -> 0 | J28: (B+C+D+F)*15.0%이내 | L28: =E28*G28% -> 0
A29: H.총원가 | E29: =I26+I27+I28 -> 0 | I29: =INT(E29) -> 0 | J29: (E+F+G)
A30: K. 고재 | I30: =E30 -> 0
A31: L. 공급가액 | E31: =I29+I30 -> 0 | I31: =E31 -> 0 | J31: (H+K)
A32: M. 부가가치세 | E32: =I31 -> 0 | F32: * | G32: 10 | H32: % | I32: =INT(E32*G32%) -> 0 | J32: (L)*10.0% | L32: =#REF!+#REF! -> #REF!
A33: N. 도급공사비 | E33: =I31+I32 -> 0 | I33: =INT(E33) -> 0 | J33: (L+M)
A34: O. 관급자 관급자재대 | E34: =내역서!F28 -> 0 | I34: =E34 -> 0
A35: P. 도급자 관급자재대 | E35: =내역서!F29 -> 0 | I35: =E35 -> 0
A36: Q. 총공사비 | E36: =I33+I34+I35 -> 0 | I36: =INT(E36) -> 0 | J36: (N+O+P)

Sheet 내역서
A1: 내역서
A2: 공 종 명 | B2: 규 격 | C2: 수량 | D2: 단위 | E2: 합 계 | G2: 재 료 비 | I2: 노 무 비 | K2: 경 비 | M2: 비 고
E3: 단 가 | F3: 금 액 | G3: 단 가 | H3: 금 액 | I3: 단 가 | J3: 금 액 | K3: 단 가 | L3: 금 액 | S3: 할 증 | T3: 화폐변환 | U3: OP값 | V3: EQ | W3: LA | X3: MA | Y3: 금액계상
A4: ■ 범계어린이공원 조성공사 | C4: 1 | D4: 식 | F4: =H4+J4+L4 -> 0 | H4: =TRUNC(H5+H7+H8+H9+H10+H11+H12+H13+H15+H16+H17+H18+H19+H20+H21+H22+H24+H26+H28+H29,0) -> 0 | J4: =TRUNC(J5+J7+J8+J9+J10+J11+J12+J13+J15+J16+J17+J18+J19+J20+J21+J22+J24+J26+J28+J29,0) -> 0 | L4: =TRUNC(L5+L7+L8+L9+L10+L11+L12+L13+L15+L16+L17+L18+L19+L20+L21+L22+L24+L26+L28+L29,0) -> 0 | O4: A0001
A5: a. 순공사비 | C5: 1 | D5: 식 | E5: =G5+I5+K5 -> 0 | F5: =H5+J5+L5 -> 0 | G5: =H31 -> 0 | H5: =TRUNC(G5*C5,0) -> 0 | I5: =J31 -> 0 | J5: =TRUNC(I5*C5,0) -> 0 | K5: =L31 -> 0 | L5: =TRUNC(K5*C5,0) -> 0 | P5: 10 | R5: A001 | AA5: MA+ = | AB5: =내역서!H5 -> 0 | AC5: MA = | AD5: =$AB5 -> 0 | BI5: =HYPERLINK("#내역서!A33","A001 →") -> A001 →
A6: 직 접 공 사 비 | C6: 1 | D6: 식 | E6: =G6+I6+K6 -> 0 | F6: =H6+J6+L6 -> 0 | H6: =TRUNC(H5,0) -> 0 | J6: =TRUNC(J5,0) -> 0 | L6: =TRUNC(L5,0) -> 0 | P6: 20 | Q6: * | R6: F | X6: MA = MA(1, -1,10) _x000D_ LA = LA(1, -1,10) _x000D_ EQ = EQ(1, -1,10) _x000D_ | AA6: LA+ = | AB6: =내역서!J6*14.3/100 -> 0 | AC6: LA = | AD6: =$AB6 -> 0
A7: 간 접 노 무 비 | B7: 직접노무비의 14.3% | C7: 1 | D7: 식 | E7: =G7+I7+K7 -> 0 | F7: =H7+J7+L7 -> 0 | H7: 0 | J7: =TRUNC((J6*14.3/100),0) -> 0 | L7: 0 | N7: ZZA000200000 | P7: 30 | R7: F-FUZZA000200000 | X7: LA = LA(20) * 14.3/100_x000D_ | AA7: EQ+ = | AB7: =(내역서!J6+내역서!J7)*3.56/100 -> 0 | AC7: EQ = | AD7: =$AB7 -> 0
A8: 산 재 보 험 료 | B8: 노무비의 3.56% | C8: 1 | D8: 식 | E8: =G8+I8+K8 -> 0 | F8: =H8+J8+L8 -> 0 | H8: 0 | J8: 0 | L8: =TRUNC(((J6+J7)*3.56/100),0) -> 0 | N8: ZZB110100000 | P8: 40 | R8: F-FUZZB110100000 | X8: EQ = ( LA(20) + LA(30) ) * 3.56/100_x000D_ | AA8: EQ+ = | AB8: =(내역서!J6+내역서!J7)*1.01/100 -> 0 | AC8: EQ = | AD8: =$AB8 -> 0
A9: 고 용 보 험 료 | B9: 노무비의 1.01% | C9: 1 | D9: 식 | E9: =G9+I9+K9 -> 0 | F9: =H9+J9+L9 -> 0 | H9: 0 | J9: 0 | L9: =TRUNC(((J6+J7)*1.01/100),0) -> 0 | N9: ZZB120100000 | P9: 50 | R9: F-FUZZB120100000 | X9: EQ = ( LA(20) + LA(30) ) * 1.01/100_x000D_ | AA9: EQ+ = | AB9: =내역서!J6*3.545/100 -> 0 | AC9: EQ = | AD9: =$AB9 -> 0
A10: 건 강 보 험 료 | B10: 직접노무비의 3.545% | C10: 1 | D10: 식 | E10: =G10+I10+K10 -> 0 | F10: =H10+J10+L10 -> 0 | H10: 0 | J10: 0 | L10: =TRUNC((J6*3.545/100),0) -> 0 | N10: ZZB130100000 | P10: 60 | R10: F-FUZZB130100000 | X10: EQ = LA(20) * 3.545/100_x000D_ | AA10: EQ+ = | AB10: =내역서!L10*12.95/100 -> 0 | AC10: EQ = | AD10: =$AB10 -> 0
A11: 노인장기요양보험료 | B11: 건강보험료의 12.95% | C11: 1 | D11: 식 | E11: =G11+I11+K11 -> 0 | F11: =H11+J11+L11 -> 0 | H11: 0 | J11: 0 | L11: =TRUNC((L10*12.95/100),0) -> 0 | N11: ZZB130200000 | P11: 70 | R11: F-FUZZB130200000 | X11: EQ = EQ(60) * 12.95/100_x000D_ | AA11: EQ+ = | AB11: =내역서!J6*4.5/100 -> 0 | AC11: EQ = | AD11: =$AB11 -> 0
A12: 연 금 보 험 료 | B12: 직접노무비의 4.5% | C12: 1 | D12: 식 | E12: =G12+I12+K12 -> 0 | F12: =H12+J12+L12 -> 0 | H12: 0 | J12: 0 | L12: =TRUNC((J6*4.5/100),0) -> 0 | N12: ZZB140100000 | P12: 80 | R12: F-FUZZB140100000 | X12: EQ = LA(20) * 4.5/100_x000D_ | AA12: EQ+ = | AB12: =내역서!J6*2.3/100 -> 0 | AC12: EQ = | AD12: =$AB12 -> 0
A13: 퇴 직 공 제 부 금 | B13: 직접노무비의 2.3% | C13: 1 | D13: 식 | E13: =G13+I13+K13 -> 0 | F13: =H13+J13+L13 -> 0 | H13: 0 | J13: 0 | L13: =TRUNC((J6*2.3/100),0) -> 0 | N13: ZZB200100000 | P13: 90 | R13: F-FUZZB200100000 | X13: EQ = LA(20) * 2.3/100_x000D_ | AA13: EQ+ = | AB13: =(내역서!H6+내역서!J6+(0/1.1))*1.85/100 -> 0 | AC13: EQ = | AD13: =$AB13 -> 0
A14: 산업안전보건관리비 | B14: (재료+직노+도급자관급)*1.85 | C14: 1 | D14: 식 | E14: =G14+I14+K14 -> 0 | F14: =H14+J14+L14 -> 0 | H14: 0 | J14: 0 | L14: =TRUNC(((H6+J6+(H29/1.1))*1.85/100),0) -> 0 | N14: ZZB300100000 | P14: 100 | Q14: * | R14: F-FUZZB300100000 | X14: EQ = ( MA(20) + LA(20) + (ma(250)/1.1)) * 1.85/100_x000D_ | AA14: EQ+ = | AB14: =(내역서!H6+내역서!J6)*1.85/100*1.2 -> 0 | AC14: EQ = | AD14: =$AB14 -> 0
B15: (재료+직노)*1.85*1.2 | C15: 1 | D15: 식 | E15: =G15+I15+K15 -> 0 | F15: =H15+J15+L15 -> 0 | H15: 0 | J15: 0 | L15: =TRUNC(((H6+J6)*1.85/100*1.2),0) -> 0 | P15: 110 | R15: F-FUZZB300100001 | X15: EQ = ( MA(20) + LA(20) ) * 1.85/100 * 1.2_x000D_ | AA15: EQ+ = | AB15: =(내역서!H6+내역서!J6+내역서!J7)*5.5/100 -> 0 | AC15: EQ = | AD15: =$AB15 -> 0
A16: 기 타 경 비 | B16: 재료비,노무비의 5.5% | C16: 1 | D16: 식 | E16: =G16+I16+K16 -> 0 | F16: =H16+J16+L16 -> 0 | H16: 0 | J16: 0 | L16: =TRUNC(((H6+J6+J7)*5.5/100),0) -> 0 | N16: ZZB400100000 | P16: 120 | R16: F-FUZZB400100000 | X16: EQ = ( MA(20) + LA(20) + LA(30) ) * 5.5/100_x000D_ | AA16: EQ+ = | AB16: =(내역서!H6+내역서!J6+내역서!L6)*0.3/100 -> 0 | AC16: EQ = | AD16: =$AB16 -> 0
A17: 환 경 보 전 비 | B17: 직접재료비,직접노무비,경비의 0.3% | C17: 1 | D17: 식 | E17: =G17+I17+K17 -> 0 | F17: =H17+J17+L17 -> 0 | H17: 0 | J17: 0 | L17: =TRUNC(((H6+J6+L6)*0.3/100),0) -> 0 | N17: ZZB700100000 | P17: 130 | R17: F-FUZZB700100000 | X17: EQ = ( MA(20) + LA(20) + EQ(20) ) * 0.3/100_x000D_ | AA17: EQ+ = | AB17: =(내역서!H6+내역서!J6+내역서!L6)*0.18/100 -> 0 | AC17: EQ = | AD17: =$AB17 -> 0
A18: 건설기계대여대금지급보증서발급금액 | B18: 직접재료비,직접노무비,경비의 0.18% | C18: 1 | D18: 식 | E18: =G18+I18+K18 -> 0 | F18: =H18+J18+L18 -> 0 | H18: 0 | J18: 0 | L18: =TRUNC(((H6+J6+L6)*0.18/100),0) -> 0 | N18: ZZB800100000 | P18: 140 | R18: F-FUZZB800100000 | X18: EQ = ( MA(20) + LA(20) + EQ(20) ) * 0.18/100_x000D_ | AA18: EQ+ = | AB18: =(내역서!H6+내역서!J6+내역서!L6)*0.081/100 -> 0 | AC18: EQ = | AD18: =$AB18 -> 0
A19: 건설하도급대지급보증서발급수수료 | B19: 직접재료비,직접노무비,경비의 0.081% | C19: 1 | D19: 식 | E19: =G19+I19+K19 -> 0 | F19: =H19+J19+L19 -> 0 | H19: 0 | J19: 0 | L19: =TRUNC(((H6+J6+L6)*0.081/100),0) -> 0 | P19: 150 | R19: F | X19: EQ = ( MA(20) + LA(20) + EQ(20) ) * 0.081/100
A20: 안 전 관 리 비 | C20: 1 | D20: 식 | E20: =G20+I20+K20 -> 0 | F20: =H20+J20+L20 -> 0 | G20: =H139 -> 0 | H20: =TRUNC(G20*C20,0) -> 0 | I20: =J139 -> 0 | J20: =TRUNC(I20*C20,0) -> 0 | K20: =L139 -> 0 | L20: =TRUNC(K20*C20,0) -> 0 | P20: 160 | R20: A07 | AA20: EQ+ = | AB20: =(내역서!H6+내역서!J6+내역서!J7+내역서!L6+내역서!L8+내역서!L9+내역서!L10+내역서!L11+내역서!L12+내역서!L13+내역서!L15+내역서!L16+내역서!L17+내역서!L18+내역서!L19+내역서!L20)*6/100 -> 0 | AC20: EQ = | AD20: =$AB20 -> 0 | BI20: =HYPERLINK("#내역서!A123","A07 →") -> A07 →
A21: 일 반 관 리 비 | B21: 순공사원가의 6% | C21: 1 | D21: 식 | E21: =G21+I21+K21 -> 0 | F21: =H21+J21+L21 -> 0 | H21: 0 | J21: 0 | L21: =TRUNC(((H6+J6+J7+L6+L8+L9+L10+L11+L12+L13+L15+L16+L17+L18+L19+L20)*6/100),0) -> 0 | N21: ZZC000100000 | P21: 170 | R21: F-FUZZC000100000 | X21: EQ = ( MA(20) + LA(20) + LA(30) + EQ(20) + EQ(40) + EQ(50) + EQ(60) + EQ(70) + EQ(80) + EQ(90) + EQ(110) + EQ(120) + EQ(130) + EQ(140)+ EQ(150)+ EQ(160) ) * 6/100_x000D_ | AA21: EQ+ = | AB21: =(내역서!J6+내역서!J7+내역서!L6+내역서!L8+내역서!L9+내역서!L10+내역서!L11+내역서!L12+내역서!L13+내역서!L15+내역서!L16+내역서!L17+내역서!L18+내역서!L19+내역서!L20+내역서!L21)*13/100-(206165/1.1)-(5292/1.1) -> -192233.64 | AC21: EQ = | AD21: =$AB21 -> -192233.64
A22: 이 윤 | B22: 노무비,경비,일반관리비의 15% | C22: 1 | D22: 식 | E22: =G22+I22+K22 -> 0 | F22: =H22+J22+L22 -> 0 | H22: 0 | J22: 0 | L22: =TRUNC(((J6+J7+L6+L8+L9+L10+L11+L12+L13+L15+L16+L17+L18+L19+L20+L21)*13/100),0) -> 0 | N22: ZZD000100000 | P22: 180 | R22: F-FUZZD000100000 | X22: EQ = ( LA(20) + LA(30) + EQ(20) + EQ(40) + EQ(50) + EQ(60) + EQ(70) + EQ(80) + EQ(90) + EQ(110) + EQ(120) + EQ(130) + EQ(140)+ EQ(150) + EQ(160) + EQ(170) ) * 13/100-(206165/1.1)-(5292/1.1)_x000D_ | AA22: EQ+ = | AB22: =내역서!H6+내역서!J6+내역서!J7+내역서!L6+내역서!L8+내역서!L9+내역서!L10+내역서!L11+내역서!L12+내역서!L13+내역서!L15+내역서!L16+내역서!L17+내역서!L18+내역서!L19+내역서!L20+내역서!L21+내역서!L22 -> 0 | AC22: EQ = | AD22: =$AB22 -> 0
A23: 총 원 가 | C23: 1 | D23: 식 | E23: =G23+I23+K23 -> 0 | F23: =H23+J23+L23 -> 0 | H23: 0 | J23: 0 | L23: =TRUNC((H6+J6+J7+L6+L8+L9+L10+L11+L12+L13+L15+L16+L17+L18+L19+L20+L21+L22),0) -> 0 | N23: * | P23: 190 | Q23: * | R23: F-FU* | X23: EQ = MA(20) + LA(20) + LA(30) + EQ(20) + EQ(40) + EQ(50) + EQ(60) + EQ(70) + EQ(80) + EQ(90) + EQ(110) + EQ(120) + EQ(130) + EQ(140)+ EQ(150)+ EQ(160) + EQ(170) + EQ(180)_x000D_
A24: 고 재 처 리 | C24: 1 | D24: 식 | E24: =G24+I24+K24 -> 0 | F24: =H24+J24+L24 -> 0 | G24: =H143 -> 0 | H24: =TRUNC(G24*C24,0) -> 0 | I24: =J143 -> 0 | J24: =TRUNC(I24*C24,0) -> 0 | K24: =L143 -> 0 | L24: =TRUNC(K24*C24,0) -> 0 | P24: 200 | R24: A08 | AA24: EQ+ = | AB24: =(내역서!H23+내역서!J23+내역서!L23)+(내역서!H24+내역서!J24+내역서!L24) -> 0 | AC24: EQ = | AD24: =$AB24 -> 0 | BI24: =HYPERLINK("#내역서!A127","A08 →") -> A08 →
A25: 공 급 가 액 | C25: 1 | D25: 식 | E25: =G25+I25+K25 -> 0 | F25: =H25+J25+L25 -> 0 | H25: 0 | J25: 0 | L25: =TRUNC(((H23+J23+L23)+(H24+J24+L24)),0) -> 0 | P25: 210 | Q25: * | R25: F | X25: eq=tot(190)+tot(200)_x000D_ | AA25: EQ+ = | AB25: =내역서!L25*10/100 -> 0 | AC25: EQ = | AD25: =$AB25 -> 0
A26: 부 가 가 치 세 | B26: 총원가의 10% | C26: 1 | D26: 식 | E26: =G26+I26+K26 -> 0 | F26: =H26+J26+L26 -> 0 | H26: 0 | J26: 0 | L26: =TRUNC((L25*10/100),0) -> 0 | N26: ZZF000100000 | P26: 220 | R26: F-FUZZF000100000 | X26: EQ = EQ(210) * 10/100_x000D_ | AA26: EQ+ = | AB26: =(내역서!H25+내역서!J25+내역서!L25)+(내역서!H26+내역서!J26+내역서!L26) -> 0 | AC26: EQ = | AD26: =$AB26 -> 0
A27: 도 급 공 사 비 | C27: 1 | D27: 식 | E27: =G27+I27+K27 -> 0 | F27: =H27+J27+L27 -> 0 | H27: 0 | J27: 0 | L27: =TRUNC(((H25+J25+L25)+(H26+J26+L26)),0) -> 0 | P27: 230 | Q27: * | R27: F | X27: eq=tot(210)+tot(220)_x000D_
A28: 관급자관급자재대 | C28: 1 | D28: 식 | E28: =G28+I28+K28 -> 0 | F28: =H28+J28+L28 -> 0 | G28: =H166 -> 0 | H28: =TRUNC(G28*C28,0) -> 0 | I28: =J166 -> 0 | J28: =TRUNC(I28*C28,0) -> 0 | K28: =L166 -> 0 | L28: =TRUNC(K28*C28,0) -> 0 | P28: 240 | R28: A11 | BI28: =HYPERLINK("#내역서!A131","A11 →") -> A11 →
A29: 도급자관급자재대 | C29: 1 | D29: 식 | E29: =G29+I29+K29 -> 0 | F29: =H29+J29+L29 -> 0 | G29: =H188 -> 0 | H29: =TRUNC(G29*C29,0) -> 0 | I29: =J188 -> 0 | J29: =TRUNC(I29*C29,0) -> 0 | K29: =L188 -> 0 | L29: =TRUNC(K29*C29,0) -> 0 | P29: 250 | R29: A12 | AA29: EQ+ = | AB29: =(내역서!H27+내역서!J27+내역서!L27)+(내역서!H28+내역서!J28+내역서!L28)+(내역서!H29+내역서!J29+내역서!L29) -> 0 | AC29: EQ = | AD29: =$AB29 -> 0 | BI29: =HYPERLINK("#내역서!A154","A12 →") -> A12 →
A30: 총 공 사 비 | C30: 1 | D30: 식 | E30: =G30+I30+K30 -> 0 | F30: =H30+J30+L30 -> 0 | H30: 0 | J30: 0 | L30: =TRUNC(((H27+J27+L27)+(H28+J28+L28)+(H29+J29+L29)),0) -> 0 | N30: * | P30: 260 | Q30: * | R30: F-FU* | X30: EQ = tot(230) + tot(240) + tot(250)_x000D_
A31: a. 순공사비 | C31: 1 | D31: 식 | F31: =H31+J31+L31 -> 0 | H31: =TRUNC(H32+H33+H34+H35+H36,0) -> 0 | J31: =TRUNC(J32+J33+J34+J35+J36,0) -> 0 | L31: =TRUNC(L32+L33+L34+L35+L36,0) -> 0 | O31: A001
A32: 01. 부대공 | C32: 1 | D32: 식 | E32: =G32+I32+K32 -> 0 | F32: =H32+J32+L32 -> 0 | G32: =H58 -> 0 | H32: =TRUNC(G32*C32,0) -> 0 | I32: =J58 -> 0 | J32: =TRUNC(I32*C32,0) -> 0 | K32: =L58 -> 0 | L32: =TRUNC(K32*C32,0) -> 0 | P32: 10 | R32: A01 | BI32: =HYPERLINK("#내역서!A41","A01 →") -> A01 →
A33: 02. 철거공 | C33: 1 | D33: 식 | E33: =G33+I33+K33 -> 0 | F33: =H33+J33+L33 -> 0 | G33: =H66 -> 0 | H33: =TRUNC(G33*C33,0) -> 0 | I33: =J66 -> 0 | J33: =TRUNC(I33*C33,0) -> 0 | K33: =L66 -> 0 | L33: =TRUNC(K33*C33,0) -> 0 | P33: 20 | R33: A02 | BI33: =HYPERLINK("#내역서!A49","A02 →") -> A02 →
A34: 03. 우수공 | C34: 1 | D34: 식 | E34: =G34+I34+K34 -> 0 | F34: =H34+J34+L34 -> 0 | G34: =H96 -> 0 | H34: =TRUNC(G34*C34,0) -> 0 | I34: =J96 -> 0 | J34: =TRUNC(I34*C34,0) -> 0 | K34: =L96 -> 0 | L34: =TRUNC(K34*C34,0) -> 0 | P34: 30 | R34: A03 | BI34: =HYPERLINK("#내역서!A79","A03 →") -> A03 →
A35: 04. 시설공 | C35: 1 | D35: 식 | E35: =G35+I35+K35 -> 0 | F35: =H35+J35+L35 -> 0 | G35: =H105 -> 0 | H35: =TRUNC(G35*C35,0) -> 0 | I35: =J105 -> 0 | J35: =TRUNC(I35*C35,0) -> 0 | K35: =L105 -> 0 | L35: =TRUNC(K35*C35,0) -> 0 | P35: 50 | R35: A05 | BI35: =HYPERLINK("#내역서!A88","A05 →") -> A05 →
A36: 05. 포장공 | C36: 1 | D36: 식 | E36: =G36+I36+K36 -> 0 | F36: =H36+J36+L36 -> 0 | G36: =H132 -> 0 | H36: =TRUNC(G36*C36,0) -> 0 | I36: =J132 -> 0 | J36: =TRUNC(I36*C36,0) -> 0 | K36: =L132 -> 0 | L36: =TRUNC(K36*C36,0) -> 0 | P36: 60 | R36: A06 | BI36: =HYPERLINK("#내역서!A115","A06 →") -> A06 →
E56: =G56+I56+K56 -> 0 | F56: =H56+J56+L56 -> 0 | H56: 0 | J56: 0 | L56: 0 | P56: 70 | Q56: *
E57: =G57+I57+K57 -> 0 | F57: =H57+J57+L57 -> 0 | H57: 0 | J57: 0 | L57: 0 | P57: 80 | Q57: S
A58: 01. 부대공 | C58: 1 | D58: 식 | F58: =H58+J58+L58 -> 0 | H58: =TRUNC(H60+H62+H63,0) -> 0 | J58: =TRUNC(J60+J62+J63,0) -> 0 | L58: =TRUNC(L60+L62+L63,0) -> 0 | O58: A01
A59: .1) 잔토운반 | E59: =G59+I59+K59 -> 0 | F59: =H59+J59+L59 -> 0 | H59: =TRUNC(H60,0) -> 0 | J59: =TRUNC(J60,0) -> 0 | L59: =TRUNC(L60,0) -> 0 | P59: 10
A60: ..사토운반(15km) | B60: (토 사):굴삭기적사 | C60: 329 | D60: ㎥ | E60: =G60+I60+K60 -> 0 | F60: =H60+J60+L60 -> 0 | H60: =TRUNC(G60*C60,0) -> 0 | J60: =TRUNC(I60*C60,0) -> 0 | L60: =TRUNC(K60*C60,0) -> 0 | M60: #.1 | P60: 20 | R60: SA00550 | T60: F | BI60: =HYPERLINK("#일위대가목록!A3","SA00550 →") -> SA00550 →
A61: .2) 기타 | E61: =G61+I61+K61 -> 0 | F61: =H61+J61+L61 -> 0 | H61: =TRUNC(H62+H63,0) -> 0 | J61: =TRUNC(J62+J63,0) -> 0 | L61: =TRUNC(L62+L63,0) -> 0 | P61: 25
A62: ..공사안내판 | B62: 0.9x1.8m | C62: 2 | D62: 개소 | E62: =G62+I62+K62 -> 0 | F62: =H62+J62+L62 -> 0 | H62: =TRUNC(G62*C62,0) -> 0 | J62: =TRUNC(I62*C62,0) -> 0 | L62: =TRUNC(K62*C62,0) -> 0 | M62: GABC0010 | P62: 27 | R62: GABC0010 | BI62: =HYPERLINK("#경비!A3","GABC0010 →") -> GABC0010 →
A63: ..현수막 | B63: 6.0x0.9m | C63: 2 | D63: ea | E63: =G63+I63+K63 -> 0 | F63: =H63+J63+L63 -> 0 | H63: =TRUNC(G63*C63,0) -> 0 | J63: =TRUNC(I63*C63,0) -> 0 | L63: =TRUNC(K63*C63,0) -> 0 | M63: GBABC0020 | P63: 29 | R63: GBABC0020 | BI63: =HYPERLINK("#경비!A4","GBABC0020 →") -> GBABC0020 →
E64: =G64+I64+K64 -> 0 | F64: =H64+J64+L64 -> 0 | H64: 0 | J64: 0 | L64: 0 | P64: 30 | Q64: *
E65: =G65+I65+K65 -> 0 | F65: =H65+J65+L65 -> 0 | H65: 0 | J65: 0 | L65: 0 | P65: 40 | Q65: S
A66: 02. 철거공 | C66: 1 | D66: 식 | F66: =H66+J66+L66 -> 0 | H66: =TRUNC(H67+H68+H69+H70+H71+H72+H73+H74+H75+H76+H77+H78+H79+H80+H81+H82+H83+H84+H85+H86+H87+H88+H89+H90+H91+H92+H93,0) -> 0 | J66: =TRUNC(J67+J68+J69+J70+J71+J72+J73+J74+J75+J76+J77+J78+J79+J80+J81+J82+J83+J84+J85+J86+J87+J88+J89+J90+J91+J92+J93,0) -> 0 | L66: =TRUNC(L67+L68+L69+L70+L71+L72+L73+L74+L75+L76+L77+L78+L79+L80+L81+L82+L83+L84+L85+L86+L87+L88+L89+L90+L91+L92+L93,0) -> 0 | O66: A02
A67: 조합놀이대철거 | C67: 1 | D67: 개소 | E67: =G67+I67+K67 -> 0 | F67: =H67+J67+L67 -> 0 | H67: =TRUNC(G67*C67,0) -> 0 | J67: =TRUNC(I67*C67,0) -> 0 | L67: =TRUNC(K67*C67,0) -> 0 | M67: No.21 | P67: 10 | R67: SWRJ0010 | T67: T | BI67: =HYPERLINK("#일위대가목록!A33","SWRJ0010 →") -> SWRJ0010 →
A68: 그네철거 | C68: 1 | D68: 개소 | E68: =G68+I68+K68 -> 0 | F68: =H68+J68+L68 -> 0 | H68: =TRUNC(G68*C68,0) -> 0 | J68: =TRUNC(I68*C68,0) -> 0 | L68: =TRUNC(K68*C68,0) -> 0 | M68: No.22 | P68: 20 | R68: SWRJ0020 | T68: T | BI68: =HYPERLINK("#일위대가목록!A34","SWRJ0020 →") -> SWRJ0020 →
A69: 시소철거 | C69: 2 | D69: 개소 | E69: =G69+I69+K69 -> 0 | F69: =H69+J69+L69 -> 0 | H69: =TRUNC(G69*C69,0) -> 0 | J69: =TRUNC(I69*C69,0) -> 0 | L69: =TRUNC(K69*C69,0) -> 0 | M69: No.23 | P69: 30 | R69: SWRJ0030 | T69: T | BI69: =HYPERLINK("#일위대가목록!A35","SWRJ0030 →") -> SWRJ0030 →
A70: 흔들놀이대철거 | C70: 2 | D70: 개소 | E70: =G70+I70+K70 -> 0 | F70: =H70+J70+L70 -> 0 | H70: =TRUNC(G70*C70,0) -> 0 | J70: =TRUNC(I70*C70,0) -> 0 | L70: =TRUNC(K70*C70,0) -> 0 | M70: No.24 | P70: 40 | R70: SWRJ0040 | T70: T | BI70: =HYPERLINK("#일위대가목록!A36","SWRJ0040 →") -> SWRJ0040 →
A71: 야외운동기구A철거 | C71: 1 | D71: 개소 | E71: =G71+I71+K71 -> 0 | F71: =H71+J71+L71 -> 0 | H71: =TRUNC(G71*C71,0) -> 0 | J71: =TRUNC(I71*C71,0) -> 0 | L71: =TRUNC(K71*C71,0) -> 0 | M71: No.25 | P71: 50 | R71: SWRJ0050 | T71: T | BI71: =HYPERLINK("#일위대가목록!A37","SWRJ0050 →") -> SWRJ0050 →
A72: 야외운동기구B철거 | C72: 1 | D72: 개소 | E72: =G72+I72+K72 -> 0 | F72: =H72+J72+L72 -> 0 | H72: =TRUNC(G72*C72,0) -> 0 | J72: =TRUNC(I72*C72,0) -> 0 | L72: =TRUNC(K72*C72,0) -> 0 | M72: No.26 | P72: 60 | R72: SWRJ0060 | T72: T | BI72: =HYPERLINK("#일위대가목록!A38","SWRJ0060 →") -> SWRJ0060 →
A73: 야외운동기구C철거 | C73: 1 | D73: 개소 | E73: =G73+I73+K73 -> 0 | F73: =H73+J73+L73 -> 0 | H73: =TRUNC(G73*C73,0) -> 0 | J73: =TRUNC(I73*C73,0) -> 0 | L73: =TRUNC(K73*C73,0) -> 0 | M73: No.27 | P73: 70 | R73: SWRJ0070 | T73: T | BI73: =HYPERLINK("#일위대가목록!A39","SWRJ0070 →") -> SWRJ0070 →
A74: 야외운동기구D철거 | C74: 1 | D74: 개소 | E74: =G74+I74+K74 -> 0 | F74: =H74+J74+L74 -> 0 | H74: =TRUNC(G74*C74,0) -> 0 | J74: =TRUNC(I74*C74,0) -> 0 | L74: =TRUNC(K74*C74,0) -> 0 | M74: No.28 | P74: 80 | R74: SWRJ0080 | T74: T | BI74: =HYPERLINK("#일위대가목록!A40","SWRJ0080 →") -> SWRJ0080 →
A75: 야외운동기구E철거 | C75: 1 | D75: 개소 | E75: =G75+I75+K75 -> 0 | F75: =H75+J75+L75 -> 0 | H75: =TRUNC(G75*C75,0) -> 0 | J75: =TRUNC(I75*C75,0) -> 0 | L75: =TRUNC(K75*C75,0) -> 0 | M75: No.29 | P75: 90 | R75: SWRJ0090 | T75: T | BI75: =HYPERLINK("#일위대가목록!A41","SWRJ0090 →") -> SWRJ0090 →
A76: 야외운동기구F철거 | C76: 1 | D76: 개소 | E76: =G76+I76+K76 -> 0 | F76: =H76+J76+L76 -> 0 | H76: =TRUNC(G76*C76,0) -> 0 | J76: =TRUNC(I76*C76,0) -> 0 | L76: =TRUNC(K76*C76,0) -> 0 | M76: No.30 | P76: 100 | R76: SWRJ0100 | T76: T | BI76: =HYPERLINK("#일위대가목록!A42","SWRJ0100 →") -> SWRJ0100 →
A77: 농구대철거 | C77: 1 | D77: 개소 | E77: =G77+I77+K77 -> 0 | F77: =H77+J77+L77 -> 0 | H77: =TRUNC(G77*C77,0) -> 0 | J77: =TRUNC(I77*C77,0) -> 0 | L77: =TRUNC(K77*C77,0) -> 0 | M77: No.31 | P77: 110 | R77: SWRJ0110 | T77: T | BI77: =HYPERLINK("#일위대가목록!A43","SWRJ0110 →") -> SWRJ0110 →
A78: 파고라철거 | B78: 4000x4000 | C78: 2 | D78: 개소 | E78: =G78+I78+K78 -> 0 | F78: =H78+J78+L78 -> 0 | H78: =TRUNC(G78*C78,0) -> 0 | J78: =TRUNC(I78*C78,0) -> 0 | L78: =TRUNC(K78*C78,0) -> 0 | M78: No.32 | P78: 120 | R78: SWRJ0120 | T78: T | BI78: =HYPERLINK("#일위대가목록!A44","SWRJ0120 →") -> SWRJ0120 →
A79: 트랠리스A철거 | B79: 3000x1200 | C79: 4 | D79: 개소 | E79: =G79+I79+K79 -> 0 | F79: =H79+J79+L79 -> 0 | H79: =TRUNC(G79*C79,0) -> 0 | J79: =TRUNC(I79*C79,0) -> 0 | L79: =TRUNC(K79*C79,0) -> 0 | M79: No.33 | P79: 130 | R79: SWRJ0130 | T79: T | BI79: =HYPERLINK("#일위대가목록!A45","SWRJ0130 →") -> SWRJ0130 →
A80: 트랠리스B철거 | B80: 3650x1500 | C80: 1 | D80: 개소 | E80: =G80+I80+K80 -> 0 | F80: =H80+J80+L80 -> 0 | H80: =TRUNC(G80*C80,0) -> 0 | J80: =TRUNC(I80*C80,0) -> 0 | L80: =TRUNC(K80*C80,0) -> 0 | M80: No.34 | P80: 140 | R80: SWRJ0140 | T80: T | BI80: =HYPERLINK("#일위대가목록!A46","SWRJ0140 →") -> SWRJ0140 →
A81: 평의자철거 | B81: 1800x450 | C81: 6 | D81: 개소 | E81: =G81+I81+K81 -> 0 | F81: =H81+J81+L81 -> 0 | H81: =TRUNC(G81*C81,0) -> 0 | J81: =TRUNC(I81*C81,0) -> 0 | L81: =TRUNC(K81*C81,0) -> 0 | M81: No.35 | P81: 150 | R81: SWRJ0150 | T81: T | BI81: =HYPERLINK("#일위대가목록!A47","SWRJ0150 →") -> SWRJ0150 →
A82: 등의자철거 | B82: 1800x450 | C82: 8 | D82: 개소 | E82: =G82+I82+K82 -> 0 | F82: =H82+J82+L82 -> 0 | H82: =TRUNC(G82*C82,0) -> 0 | J82: =TRUNC(I82*C82,0) -> 0 | L82: =TRUNC(K82*C82,0) -> 0 | M82: No.36 | P82: 160 | R82: SWRJ0160 | T82: T | BI82: =HYPERLINK("#일위대가목록!A48","SWRJ0160 →") -> SWRJ0160 →
A83: 안내판철거 | C83: 1 | D83: 개소 | E83: =G83+I83+K83 -> 0 | F83: =H83+J83+L83 -> 0 | H83: =TRUNC(G83*C83,0) -> 0 | J83: =TRUNC(I83*C83,0) -> 0 | L83: =TRUNC(K83*C83,0) -> 0 | M83: No.37 | P83: 170 | R83: SWRJ0170 | T83: T | BI83: =HYPERLINK("#일위대가목록!A49","SWRJ0170 →") -> SWRJ0170 →
A84: 금연안내판이설 | C84: 1 | D84: 개소 | E84: =G84+I84+K84 -> 0 | F84: =H84+J84+L84 -> 0 | H84: =TRUNC(G84*C84,0) -> 0 | J84: =TRUNC(I84*C84,0) -> 0 | L84: =TRUNC(K84*C84,0) -> 0 | M84: No.38 | P84: 180 | R84: SWRJ0180 | T84: T | BI84: =HYPERLINK("#일위대가목록!A50","SWRJ0180 →") -> SWRJ0180 →
A85: 음수전철거 | C85: 1 | D85: 개소 | E85: =G85+I85+K85 -> 0 | F85: =H85+J85+L85 -> 0 | H85: =TRUNC(G85*C85,0) -> 0 | J85: =TRUNC(I85*C85,0) -> 0 | L85: =TRUNC(K85*C85,0) -> 0 | M85: No.39 | P85: 190 | R85: SWRJ0190 | T85: T | BI85: =HYPERLINK("#일위대가목록!A51","SWRJ0190 →") -> SWRJ0190 →
A86: 계단철거 | C86: 1 | D86: 식 | E86: =G86+I86+K86 -> 0 | F86: =H86+J86+L86 -> 0 | H86: =TRUNC(G86*C86,0) -> 0 | J86: =TRUNC(I86*C86,0) -> 0 | L86: =TRUNC(K86*C86,0) -> 0 | M86: No.40 | P86: 200 | R86: SWRJ0200 | T86: T | BI86: =HYPERLINK("#일위대가목록!A52","SWRJ0200 →") -> SWRJ0200 →
A87: 철재화단휀스철거 | C87: 336 | D87: m | E87: =G87+I87+K87 -> 0 | F87: =H87+J87+L87 -> 0 | H87: =TRUNC(G87*C87,0) -> 0 | J87: =TRUNC(I87*C87,0) -> 0 | L87: =TRUNC(K87*C87,0) -> 0 | M87: No.41 | P87: 210 | R87: SWRJ0210 | T87: T | BI87: =HYPERLINK("#일위대가목록!A53","SWRJ0210 →") -> SWRJ0210 →
A88: 앉음벽철거 | B88: H300 | C88: 16 | D88: m | E88: =G88+I88+K88 -> 0 | F88: =H88+J88+L88 -> 0 | H88: =TRUNC(G88*C88,0) -> 0 | J88: =TRUNC(I88*C88,0) -> 0 | L88: =TRUNC(K88*C88,0) -> 0 | M88: No.42 | P88: 220 | R88: SWRJ0220 | T88: T | BI88: =HYPERLINK("#일위대가목록!A54","SWRJ0220 →") -> SWRJ0220 →
A89: 측구수로관철거 | B89: W300 | C89: 4 | D89: m | E89: =G89+I89+K89 -> 0 | F89: =H89+J89+L89 -> 0 | H89: =TRUNC(G89*C89,0) -> 0 | J89: =TRUNC(I89*C89,0) -> 0 | L89: =TRUNC(K89*C89,0) -> 0 | M89: No.43 | P89: 230 | R89: SWRJ0230 | T89: T | BI89: =HYPERLINK("#일위대가목록!A55","SWRJ0230 →") -> SWRJ0230 →
A90: PE수로관철거 | B90: W150 | C90: 22 | D90: m | E90: =G90+I90+K90 -> 0 | F90: =H90+J90+L90 -> 0 | H90: =TRUNC(G90*C90,0) -> 0 | J90: =TRUNC(I90*C90,0) -> 0 | L90: =TRUNC(K90*C90,0) -> 0 | M90: No.44 | P90: 240 | R90: SWRJ0240 | T90: T | BI90: =HYPERLINK("#일위대가목록!A56","SWRJ0240 →") -> SWRJ0240 →
A91: 블록포장철거 | B91: T60 | C91: 968 | D91: ㎡ | E91: =G91+I91+K91 -> 0 | F91: =H91+J91+L91 -> 0 | H91: =TRUNC(G91*C91,0) -> 0 | J91: =TRUNC(I91*C91,0) -> 0 | L91: =TRUNC(K91*C91,0) -> 0 | M91: No.45 | P91: 250 | R91: SWRJ0250 | T91: T | BI91: =HYPERLINK("#일위대가목록!A57","SWRJ0250 →") -> SWRJ0250 →
A92: 경계목철거 | B92: T60 | C92: 61 | D92: m | E92: =G92+I92+K92 -> 0 | F92: =H92+J92+L92 -> 0 | H92: =TRUNC(G92*C92,0) -> 0 | J92: =TRUNC(I92*C92,0) -> 0 | L92: =TRUNC(K92*C92,0) -> 0 | M92: No.46 | P92: 260 | R92: SWRJ0260 | T92: T | BI92: =HYPERLINK("#일위대가목록!A58","SWRJ0260 →") -> SWRJ0260 →
A93: 수목제거 | B93: R25이하 | C93: 4 | D93: 주 | E93: =G93+I93+K93 -> 0 | F93: =H93+J93+L93 -> 0 | H93: =TRUNC(G93*C93,0) -> 0 | J93: =TRUNC(I93*C93,0) -> 0 | L93: =TRUNC(K93*C93,0) -> 0 | M93: No.47 | P93: 270 | R93: SWRJ0270 | T93: T | BI93: =HYPERLINK("#일위대가목록!A59","SWRJ0270 →") -> SWRJ0270 →
E94: =G94+I94+K94 -> 0 | F94: =H94+J94+L94 -> 0 | H94: 0 | J94: 0 | L94: 0 | P94: 280 | Q94: *
E95: =G95+I95+K95 -> 0 | F95: =H95+J95+L95 -> 0 | H95: 0 | J95: 0 | L95: 0 | P95: 290 | Q95: S
A96: 03. 우수공 | C96: 1 | D96: 식 | F96: =H96+J96+L96 -> 0 | H96: =TRUNC(H97+H98+H99+H100+H101+H102,0) -> 0 | J96: =TRUNC(J97+J98+J99+J100+J101+J102,0) -> 0 | L96: =TRUNC(L97+L98+L99+L100+L101+L102,0) -> 0 | O96: A03
A97: 빗물받이A | B97: 410x510xH520 | C97: 11 | D97: 개소 | E97: =G97+I97+K97 -> 0 | F97: =H97+J97+L97 -> 0 | H97: =TRUNC(G97*C97,0) -> 0 | J97: =TRUNC(I97*C97,0) -> 0 | L97: =TRUNC(K97*C97,0) -> 0 | M97: No.48 | P97: 10 | R97: SWRJ3010 | T97: T | BI97: =HYPERLINK("#일위대가목록!A60","SWRJ3010 →") -> SWRJ3010 →
A98: 빗물받이B | B98: 410x510xH750 | C98: 2 | D98: 개소 | E98: =G98+I98+K98 -> 0 | F98: =H98+J98+L98 -> 0 | H98: =TRUNC(G98*C98,0) -> 0 | J98: =TRUNC(I98*C98,0) -> 0 | L98: =TRUNC(K98*C98,0) -> 0 | M98: No.49 | P98: 20 | R98: SWRJ3020 | T98: T | BI98: =HYPERLINK("#일위대가목록!A61","SWRJ3020 →") -> SWRJ3020 →
A99: 측구수로관 | B99: D200(디자인그레이팅) | C99: 38 | D99: m | E99: =G99+I99+K99 -> 0 | F99: =H99+J99+L99 -> 0 | H99: =TRUNC(G99*C99,0) -> 0 | J99: =TRUNC(I99*C99,0) -> 0 | L99: =TRUNC(K99*C99,0) -> 0 | M99: No.50 | P99: 30 | R99: SWRJ3030 | T99: T | BI99: =HYPERLINK("#일위대가목록!A62","SWRJ3030 →") -> SWRJ3030 →
A100: 우수관 | B100: D250 | C100: 152 | D100: m | E100: =G100+I100+K100 -> 0 | F100: =H100+J100+L100 -> 0 | H100: =TRUNC(G100*C100,0) -> 0 | J100: =TRUNC(I100*C100,0) -> 0 | L100: =TRUNC(K100*C100,0) -> 0 | M100: No.51 | P100: 40 | R100: SWRJ3040 | T100: T | BI100: =HYPERLINK("#일위대가목록!A63","SWRJ3040 →") -> SWRJ3040 →
A101: 맹암거(간선) | B101: D200 | C101: 25 | D101: m | E101: =G101+I101+K101 -> 0 | F101: =H101+J101+L101 -> 0 | H101: =TRUNC(G101*C101,0) -> 0 | J101: =TRUNC(I101*C101,0) -> 0 | L101: =TRUNC(K101*C101,0) -> 0 | M101: No.52 | P101: 50 | R101: SWRJ3050 | T101: T | BI101: =HYPERLINK("#일위대가목록!A64","SWRJ3050 →") -> SWRJ3050 →
A102: 맹암거(지선) | B102: D150 | C102: 50 | D102: m | E102: =G102+I102+K102 -> 0 | F102: =H102+J102+L102 -> 0 | H102: =TRUNC(G102*C102,0) -> 0 | J102: =TRUNC(I102*C102,0) -> 0 | L102: =TRUNC(K102*C102,0) -> 0 | M102: No.53 | P102: 60 | R102: SWRJ3060 | T102: T | BI102: =HYPERLINK("#일위대가목록!A65","SWRJ3060 →") -> SWRJ3060 →
E103: =G103+I103+K103 -> 0 | F103: =H103+J103+L103 -> 0 | H103: 0 | J103: 0 | L103: 0 | P103: 70 | Q103: *
E104: =G104+I104+K104 -> 0 | F104: =H104+J104+L104 -> 0 | H104: 0 | J104: 0 | L104: 0 | P104: 80 | Q104: S
A105: 04. 시설공 | C105: 1 | D105: 식 | F105: =H105+J105+L105 -> 0 | H105: =TRUNC(H116+H119+H120+H121+H122,0) -> 0 | J105: =TRUNC(J116+J119+J120+J121+J122,0) -> 0 | L105: =TRUNC(L116+L119+L120+L121+L122,0) -> 0 | O105: A05
A106: 조합놀이대 | B106: 14254x8267x5863 | C106: 1 | D106: 개소 | E106: =G106+I106+K106 -> 0 | F106: =H106+J106+L106 -> 0 | H106: =TRUNC(G106*C106,0) -> 0 | M106: MZTAA0010 | P106: 10 | Q106: * | R106: MZTAA0010 | W106: 관급자재 | BI106: =HYPERLINK("#자재조서!A32","MZTAA0010 →") -> MZTAA0010 →
A107: 모래놀이대 | B107: 3000x2850x850 | C107: 1 | D107: 개소 | E107: =G107+I107+K107 -> 0 | F107: =H107+J107+L107 -> 0 | H107: =TRUNC(G107*C107,0) -> 0 | M107: MZTAA0020 | P107: 20 | Q107: * | R107: MZTAA0020 | W107: 관급자재 | BI107: =HYPERLINK("#자재조서!A33","MZTAA0020 →") -> MZTAA0020 →
A108: 그네 | B108: 5100x1300x2390 | C108: 1 | D108: 개소 | E108: =G108+I108+K108 -> 0 | F108: =H108+J108+L108 -> 0 | H108: =TRUNC(G108*C108,0) -> 0 | M108: MZTAA0030 | P108: 30 | Q108: * | R108: MZTAA0030 | W108: 관급자재 | BI108: =HYPERLINK("#자재조서!A34","MZTAA0030 →") -> MZTAA0030 →
A109: 시소 | B109: 3672x404x884 | C109: 2 | D109: 개소 | E109: =G109+I109+K109 -> 0 | F109: =H109+J109+L109 -> 0 | H109: =TRUNC(G109*C109,0) -> 0 | M109: MZTAA0040 | P109: 40 | Q109: * | R109: MZTAA0040 | W109: 관급자재 | BI109: =HYPERLINK("#자재조서!A35","MZTAA0040 →") -> MZTAA0040 →
A110: 흔들놀이대A | B110: 718x355x864 | C110: 1 | D110: 개소 | E110: =G110+I110+K110 -> 0 | F110: =H110+J110+L110 -> 0 | H110: =TRUNC(G110*C110,0) -> 0 | M110: MZTAA0050 | P110: 50 | Q110: * | R110: MZTAA0050 | W110: 관급자재 | BI110: =HYPERLINK("#자재조서!A36","MZTAA0050 →") -> MZTAA0050 →
A111: 흔들놀이대B | B111: 718x355x864 | C111: 1 | D111: 개소 | E111: =G111+I111+K111 -> 0 | F111: =H111+J111+L111 -> 0 | H111: =TRUNC(G111*C111,0) -> 0 | M111: MZTAA0060 | P111: 60 | Q111: * | R111: MZTAA0060 | W111: 관급자재 | BI111: =HYPERLINK("#자재조서!A37","MZTAA0060 →") -> MZTAA0060 →
A112: 파고라 | B112: 4000x4000 | C112: 2 | D112: 개소 | E112: =G112+I112+K112 -> 0 | F112: =H112+J112+L112 -> 0 | H112: =TRUNC(G112*C112,0) -> 0 | M112: MZTAA0070 | P112: 70 | Q112: * | R112: MZTAA0070 | W112: 관급자재 | BI112: =HYPERLINK("#자재조서!A38","MZTAA0070 →") -> MZTAA0070 →
A113: 연식파고라 | B113: 6000x2500x2500 | C113: 1 | D113: 개소 | E113: =G113+I113+K113 -> 0 | F113: =H113+J113+L113 -> 0 | H113: =TRUNC(G113*C113,0) -> 0 | M113: MZTAA0080 | P113: 80 | Q113: * | R113: MZTAA0080 | W113: 관급자재 | BI113: =HYPERLINK("#자재조서!A39","MZTAA0080 →") -> MZTAA0080 →
A114: 평의자 | B114: 1600x500x520 | C114: 2 | D114: 개소 | E114: =G114+I114+K114 -> 0 | F114: =H114+J114+L114 -> 0 | H114: =TRUNC(G114*C114,0) -> 0 | M114: MZTAA0085 | P114: 85 | Q114: * | R114: MZTAA0085 | W114: 관급자재 | BI114: =HYPERLINK("#자재조서!A40","MZTAA0085 →") -> MZTAA0085 →
A115: 등의자 | B115: 1600x580x700 | C115: 11 | D115: 개소 | E115: =G115+I115+K115 -> 0 | F115: =H115+J115+L115 -> 0 | H115: =TRUNC(G115*C115,0) -> 0 | M115: MZTAA0090 | P115: 90 | Q115: * | R115: MZTAA0090 | W115: 관급자재 | BI115: =HYPERLINK("#자재조서!A41","MZTAA0090 →") -> MZTAA0090 →
A116: 음수대 | B116: 420x530x1200 | C116: 1 | D116: 개소 | E116: =G116+I116+K116 -> 0 | F116: =H116+J116+L116 -> 0 | H116: =TRUNC(G116*C116,0) -> 0 | J116: =TRUNC(I116*C116,0) -> 0 | L116: =TRUNC(K116*C116,0) -> 0 | M116: No.54 | P116: 100 | R116: SWRJ5010 | T116: T | BI116: =HYPERLINK("#일위대가목록!A66","SWRJ5010 →") -> SWRJ5010 →
A117: 채널간판 | B117: 500x500xD80 | C117: 5 | D117: 개소 | E117: =G117+I117+K117 -> 0 | F117: =H117+J117+L117 -> 0 | H117: =TRUNC(G117*C117,0) -> 0 | M117: MZTAA0100 | P117: 110 | Q117: * | R117: MZTAA0100 | W117: 관급자재 | BI117: =HYPERLINK("#자재조서!A42","MZTAA0100 →") -> MZTAA0100 →
A118: 공원안내판 | B118: 1200x700 | C118: 1 | D118: 개소 | E118: =G118+I118+K118 -> 0 | F118: =H118+J118+L118 -> 0 | H118: =TRUNC(G118*C118,0) -> 0 | M118: MZTAA0110 | P118: 120 | Q118: * | R118: MZTAA0110 | W118: 관급자재 | BI118: =HYPERLINK("#자재조서!A43","MZTAA0110 →") -> MZTAA0110 →
A119: 통석앉음벽(직선) | B119: H450 | C119: 17 | D119: m | E119: =G119+I119+K119 -> 0 | F119: =H119+J119+L119 -> 0 | H119: =TRUNC(G119*C119,0) -> 0 | J119: =TRUNC(I119*C119,0) -> 0 | L119: =TRUNC(K119*C119,0) -> 0 | M119: No.55 | P119: 130 | R119: SWRJ5020 | T119: T | BI119: =HYPERLINK("#일위대가목록!A67","SWRJ5020 →") -> SWRJ5020 →
...

Sheet 전역변수
A1: 전역변수
A2: 변 수 명 | B2: 형 식 | C2: 값 | D2: 비 고 | E2: 적용단위
A3: A | B3: 숫자 | C3: 75 | D3: 어스앵커 공수
A4: A11 | B4: 숫자 | C4: 50 | D4: 야간기본노임 | E4: %
A5: A21 | B5: 숫자 | C5: 20 | D5: 작업능률저하 | E5: %
A6: A31 | B6: 숫자 | C6: 0 | D6: 8시간,휴전할증 | E6: %
A7: A33 | B7: 숫자 | C7: 30 | D7: 3시간,휴전할증 | E7: %
A8: BS01 | B8: 숫자 | C8: 59 | D8: 병렬터널할증 | E8: %
A9: BS02 | B9: 숫자 | C9: 100 | D9: 병렬터널 할증 (일방향) | E9: %
A10: BTR | B10: 숫자 | C10: 100 | D10: 하반할증 | E10: %
A11: CPI | B11: 숫자 | C11: 4.99 | D11: 소비자물가변동율 | E11: %
A12: GB01 | B12: 숫자 | C12: 74 | D12: 볼트손율(24개월조임철물적용) | E12: %
A13: GBO2 | B13: 숫자 | C13: 56 | D13: 잭손율(24개월받침철물적용) | E13: %
A14: HPN3 | B14: 숫자 | C14: 8.03 | D14: H-형강손료 | E14: %
A15: JANG_D | B15: 숫자 | C15: 80.2 | D15: 동시굴착 범위 (복선) | E15: %
... A20: PHH1 | B20: 숫자 | C20: 1 | D20: 로드헤드운전원 | E20: 인
A21: R | B21: 숫자 | C21: 1.0386 | D21: 장대터널할증
A22: SPN3 | B22: 숫자 | C22: 9.51 | D22: S-파일손료 | E22: %
A23: TBL2 | B23: 숫자 | C23: 100 | D23: 2Arch터널노임(일방향) | E23: %
A24: ZT00010 | B24: 숫자 | C24: 100 | D24: 낙찰율 | E24: %
A25: ZT605010 | B25: 숫자 | C25: 65 | D25: 본선터널 병렬터널 할증 | E25: %
A26: ZT605020 | B26: 숫자 | C26: 100 | D26: 램프터널 병렬터널 항증 | E26: %

Sheet 자재
A1: 자재
A2: 명 칭 | B2: 규 격 | C2: 단 위 | D2: 단 가 | E2: 비 고
A3: 휘발유 | C3: ℓ | D3: =#REF! -> #REF! | E3: 가정/24.04.16/ | G3: M-BS-001
A4: 오일 | C4: ℓ | D4: =#REF! -> #REF! | E4: 거가/1453/ | G4: M-BS-002
A5: 모래 | B5: 자연사 | C5: ㎥ | D5: =#REF! -> #REF! | E5: 거가/102/ | G5: M-BS-003 | H5: M0717003
A6: 각 재 | B6: 외송 | C6: ㎥ | D6: =#REF! -> #REF! | E6: 물정/조달청/ | G6: M0882503 | H6: M0882503
A7: 내수합판 | B7: 12×1220×2440㎜ (1급T-I) | C7: ㎡ | D7: =#REF! -> #REF! | E7: 물정/조달청/물자1 P681 | G7: M4332041 | H7: M4332041
A8: 산소 | B8: 99% 6000ℓ(기체) 40ℓ | C8: 병 | D8: =#REF! -> #REF! | E8: 물자/33(하)/물자2 P33 | G8: M9327003 | H8: M9327003
A9: 아세칠렌 | B9: 98% (용접용) 1kg=853ℓ | C9: ㎏ | D9: =#REF! -> #REF! | E9: 물정/조달청/물정2 P951 | F9: 68300067001 | G9: M9342003 | H9: M9342003
A10: 소철선 | B10: 어니일링, 4.0㎜ | C10: kg | D10: =#REF! -> #REF! | E10: 물정/조달청/ | G10: M95050017111
A11: 이형철근 | B11: D13 | C11: ton | D11: =#REF! -> #REF! | E11: 거가/49/ | G11: M95050017113
A12: 레미콘 | B12: 25-21-12 | C12: ㎥ | D12: =#REF! -> #REF! | E12: 물자/71/ | G12: MST0014
A13: 잡석(혼합골재) | B13: 보조기층용 | C13: ㎥ | D13: =#REF! -> #REF! | E13: 물자/62/ | G13: MST0016
A14: 통석1-1 | B14: 540x400x1,000,직선 | C14: m | D14: =#REF! -> #REF! | E14: 견단/온필/ | G14: MST0020
A15: 통석3-1 | B15: 200x300x1,000,직선 | C15: m | D15: =#REF! -> #REF! | E15: 견단/온필/ | G15: MST0030
A16: 통석3-2 | B16: 200x300x1,000,곡선 | C16: m | D16: =#REF! -> #REF! | E16: 견단/온필/ | G16: MST0040
A17: 밴드형 연결구 | B17: 200㎜ | C17: EA | D17: =#REF! -> #REF! | E17: 거가/809/ | G17: MU-0020
A18: 밴드형 연결구 | B18: 150㎜ | C18: EA | D18: =#REF! -> #REF! | E18: 거가/809/ | G18: MU-0030
A19: 부직포 | B19: 200g/㎡ | C19: ㎡ | D19: =#REF! -> #REF! | E19: 거가/350/ | G19: MWRD0050
A20: 빗물받이A | B20: 410x510xH520, 침사조+앵글+그레이팅 | C20: 조 | D20: =#REF! -> #REF! | E20: 물자/226/ | G20: MWZA0010
A21: 빗물받이B | B21: 410x510xH750, 침사조+앵글+그레이팅 | C21: 조 | D21: =#REF! -> #REF! | E21: 물자/226/ | G21: MWZA0020
... A56: 치즐 | B56: 굴살기(0.7㎥용) | C56: 개 | D56: =#REF! -> #REF! | E56: 거가/1273/ | G56: MZTAA7030
A57: 마사토 | C57: ㎥ | D57: =#REF! -> #REF! | E57: 견단/유통/ | G57: MZTAA7040
A58: 몰탈 | B58: 1:3 | C58: ㎥ | D58: =#REF! -> #REF! | E58: 물정/58/ | G58: MZTAA7050

Sheet 중기전역변수
A1: 중기전역변수
A2: 변 수 명 | B2: 형 식 | C2: 값 | D2: 비 고
A3: QCODE | B3: 문자 | C3: 100000000001
A4: QUS2WON | B4: 숫자 | C4: 1180 | D4: 환율(장비가격10만불이하)
A5: QUS2WON1 | B5: 숫자 | C5: 1180 | D5: 환율(장비가격10만불이상)
A6: QYEN2WON | B6: 숫자 | C6: 13.2 | D6: 환율(엔화)
A7: QDM2WON | B7: 숫자 | C7: 724.05 | D7: 환율(마르크화)
A8: QSDR2WON | B8: 숫자 | C8: 1000 | D8: 환율(IMF특별인출권)
A9: QECU2WON | B9: 숫자 | C9: 1580 | D9: 환율(유로화)
A10: QEQTY1 | B10: 문자 | C10: (SANG + JUNG + KWAN)*10^-4 | D10: 중기주간경비산출계수
A11: QEQTY2 | B11: 문자 | C11: (SANG + JUNG + KWAN)*10^-4 | D11: 중기야간경비산출계수
A12: QEQTY3 | B12: 문자 | C12: (SANG + JUNG + int(KWAN/3))*10^-4 | D12: 중기주야간경비산출계수
A13: QEINC2 | B13: 숫자 | C13: 1.25 | D13: 중기야간할증계수
A14: QEINC3 | B14: 숫자 | C14: 1.071 | D14: 중기주야간할증계수
A15: QDECPEQ | B15: 문자 | C15: 0 | D15: 경비단가소숫점
A16: QDECCEQ | B16: 문자 | C16: 0 | D16: 경비금액소숫점
A17: QDECEQ | B17: 문자 | C17: 0 | D17: 경비계금액소숫점
A18: QH1 | B18: 문자 | C18: =25/20 * 16/12 * 1/8 -> 0.20833333 | D18: 시간당노임산출계수(일반구간)
A19: QH2 | B19: 문자 | C19: =25/20 * 16/12 * 1/8 -> 0.20833333 | D19: 시간당노임산출계수(터널구간)
A20: QH21 | B20: 문자 | C20: =25/20 * 16/12 * 1/8 -> 0.20833333 | D20: 시간당노임산출계수(장대터널)
A21: QH31 | B21: 문자 | C21: =25/20 * 16/12 * 1/8 -> 0.20833333 | D21: 시간당노임산출계수(해상장비:펌프준설선)
A22: QH32 | B22: 문자 | C22: =25/20 * 16/12 * 1/8 -> 0.20833333 | D22: 시간당노임산출계수(해상장비:GRAB준설선)
A23: QH33 | B23: 문자 | C23: =25/20 * 16/12 * 1/8 -> 0.20833333 | D23: 시간당노임산출계수(해상장비:버켓준설선)
A24: QLINC1 | B24: 숫자 | C24: 1 | D24: 노임할증계수(일반구간:주간)
A25: QLINC2 | B25: 숫자 | C25: 1.5 | D25: 노임할증계수(일반구간:야간)
A26: QLINC3 | B26: 숫자 | C26: 1.16 | D26: 노임할증계수(일반구간:주야간)
A27: QLINCA | B27: 숫자 | C27: 1.6 | D27: 노임할증계수(터널구간:주간)
A28: QLINCB | B28: 숫자 | C28: 1.6 | D28: 노임할증계수(터널구간:야간)
A29: QLINCC | B29: 숫자 | C29: 1.6 | D29: 노임할증계수(터널구간:주야간)
A30: QLINCD | B30: 숫자 | C30: 1.94 | D30: 노임할증계수(장대터널:주간)
A31: QLINCE | B31: 숫자 | C31: 1.94 | D31: 노임할증계수(장대터널:야간)
A32: QLINCF | B32: 숫자 | C32: 1.94 | D32: 노임할증계수(장대터널:주야간)
A33: QLINCX | B33: 숫자 | C33: 1 | D33: 노임할증계수(해상장비:주간)
A34: QLINCY | B34: 숫자 | C34: 1 | D34: 노임할증계수(해상장비:야간)
A35: QLINCZ | B35: 숫자 | C35: 1 | D35: 노임할증계수(해상장비:주야간)
A36: QDECPLA | B36: 문자 | C36: 0 | D36: 노임단가소숫점
A37: QDECCLA | B37: 문자 | C37: 0 | D37: 노임금액소숫점
A38: QDECLA | B38: 문자 | C38: 0 | D38: 노임계금액소숫점
A39: QMINC2 | B39: 숫자 | C39: 1.11 | D39: 재료비할증계수(야간)
A40: QMINC3 | B40: 숫자 | C40: 1.12 | D40: 재료비할증계수(주야간)
A41: QDECPMA | B41: 문자 | C41: 2 | D41: 재료비단가소숫점
A42: QDECCMA | B42: 문자 | C42: 2 | D42: 재료비금액소숫점
A43: QDECMA | B43: 문자 | C43: 2 | D43: 재료비계금액소숫점
A44: QVER | B44: 문자 | C44: 0
A45: QSABUN | B45: 문자
A46: QDATE | B46: 문자
A47: QUS2WON2 | B47: 숫자 | C47: 1180 | D47: 환율(사용자 환율1)
A48: QUS2WON3 | B48: 숫자 | C48: 1180 | D48: 환율(사용자 환율2)
A49: QOPtimeDecCnt | B49: 문자 | C49: 7
A50: QOPtimeDecOp | B50: 문자 | C50: 0

Sheet Sheet3
